BEGIN:VCALENDAR
VERSION:2.0
PRODID:-//Holy Cross Church Edinburgh - ECPv6.15.20//NONSGML v1.0//EN
CALSCALE:GREGORIAN
METHOD:PUBLISH
X-ORIGINAL-URL:https://holycrossedinburgh.org
X-WR-CALDESC:Events for Holy Cross Church Edinburgh
REFRESH-INTERVAL;VALUE=DURATION:PT1H
X-Robots-Tag:noindex
X-PUBLISHED-TTL:PT1H
BEGIN:VTIMEZONE
TZID:UTC
BEGIN:STANDARD
TZOFFSETFROM:+0000
TZOFFSETTO:+0000
TZNAME:UTC
DTSTART:20250101T000000
END:STANDARD
END:VTIMEZONE
BEGIN:VEVENT
DTSTART;TZID=UTC:20260923T093000
DTEND;TZID=UTC:20260923T100000
DTSTAMP:20260420T100102
CREATED:20260120T122728Z
LAST-MODIFIED:20260120T122728Z
UID:4634-1790155800-1790157600@holycrossedinburgh.org
SUMMARY:Silent Prayer
DESCRIPTION:30 minutes of shared silent meditative prayer without pressure to do or be anything other than present to what the silence may hold.
URL:https://holycrossedinburgh.org/event/silent-prayer-36/
LOCATION:Holy Cross\, Edinburgh\, Holy Cross Church\, Quality Street\, Davidson’s Mains\, Edinburgh\, EH4 5BS
CATEGORIES:Eucharist
END:VEVENT
BEGIN:VEVENT
DTSTART;TZID=UTC:20260923T103000
DTEND;TZID=UTC:20260923T110000
DTSTAMP:20260420T100102
CREATED:20260120T121841Z
LAST-MODIFIED:20260120T121841Z
UID:4583-1790159400-1790161200@holycrossedinburgh.org
SUMMARY:Eucharist
DESCRIPTION:A simple contemplative service using the 1982 Scottish Liturgy\, lasting about half an hour. We usually gather for coffee in the church after the service.
URL:https://holycrossedinburgh.org/event/eucharist-315/
LOCATION:Holy Cross\, Edinburgh\, Holy Cross Church\, Quality Street\, Davidson’s Mains\, Edinburgh\, EH4 5BS
CATEGORIES:Eucharist
END:VEVENT
END:VCALENDAR